Package: CRISPRseek Version: 1.40.0 Command: rm -rf CRISPRseek.buildbin-libdir && mkdir CRISPRseek.buildbin-libdir && /Users/biocbuild/BBS/utils/build-universal.sh CRISPRseek_1.40.0.tar.gz /Library/Frameworks/R.framework/Resources/bin/R CRISPRseek.buildbin-libdir StartedAt: 2023-10-16 09:13:18 -0400 (Mon, 16 Oct 2023) EndedAt: 2023-10-16 09:15:31 -0400 (Mon, 16 Oct 2023) EllapsedTime: 132.4 seconds RetCode: 0 Status: OK PackageFile: CRISPRseek_1.40.0.tgz PackageFileSize: 11 MiB