Package: COTAN Version: 2.0.5 Command: chmod a+r COTAN -R && F:\biocbuild\bbs-3.17-bioc\R\bin\R.exe CMD build --keep-empty-dirs --no-resave-data COTAN StartedAt: 2023-10-15 18:24:02 -0400 (Sun, 15 Oct 2023) EndedAt: 2023-10-15 18:34:44 -0400 (Sun, 15 Oct 2023) EllapsedTime: 642.0 seconds RetCode: 0 Status: OK PackageFile: COTAN_2.0.5.tar.gz PackageFileSize: 3.915 MiB