Package: COTAN Version: 2.0.5 Command: rm -rf COTAN.buildbin-libdir && mkdir COTAN.buildbin-libdir && F:\biocbuild\bbs-3.17-bioc\R\bin\R.exe CMD INSTALL --build --library=COTAN.buildbin-libdir COTAN_2.0.5.tar.gz StartedAt: 2023-10-16 08:38:22 -0400 (Mon, 16 Oct 2023) EndedAt: 2023-10-16 08:39:01 -0400 (Mon, 16 Oct 2023) EllapsedTime: 38.8 seconds RetCode: 0 Status: OK PackageFile: COTAN_2.0.5.zip PackageFileSize: 3.94 MiB