Package: COTAN Version: 2.0.5 Command: /home/biocbuild/bbs-3.17-bioc/R/bin/R CMD INSTALL COTAN StartedAt: 2023-10-15 15:45:46 -0400 (Sun, 15 Oct 2023) EndedAt: 2023-10-15 15:46:11 -0400 (Sun, 15 Oct 2023) EllapsedTime: 25.3 seconds RetCode: 0 Status: OK