Package: COTAN Version: 2.0.5 Command: /Library/Frameworks/R.framework/Resources/bin/R CMD check --install=check:COTAN.install-out.txt --library=/Library/Frameworks/R.framework/Resources/library --no-vignettes --timings COTAN_2.0.5.tar.gz StartedAt: 2023-10-16 00:18:46 -0400 (Mon, 16 Oct 2023) EndedAt: 2023-10-16 00:49:02 -0400 (Mon, 16 Oct 2023) EllapsedTime: 1815.7 seconds RetCode: 0 Status: OK CheckDir: COTAN.Rcheck Warnings: 0