Package: COTAN Version: 2.0.5 Command: rm -rf COTAN.buildbin-libdir && mkdir COTAN.buildbin-libdir && /Users/biocbuild/BBS/utils/build-universal.sh COTAN_2.0.5.tar.gz /Library/Frameworks/R.framework/Resources/bin/R COTAN.buildbin-libdir StartedAt: 2023-10-16 09:12:51 -0400 (Mon, 16 Oct 2023) EndedAt: 2023-10-16 09:14:23 -0400 (Mon, 16 Oct 2023) EllapsedTime: 91.8 seconds RetCode: 0 Status: OK PackageFile: COTAN_2.0.5.tgz PackageFileSize: 5.155 MiB