Package: CORREP Version: 1.66.0 Command: /home/biocbuild/bbs-3.17-bioc/R/bin/R CMD build --keep-empty-dirs --no-resave-data CORREP StartedAt: 2023-10-15 16:26:12 -0400 (Sun, 15 Oct 2023) EndedAt: 2023-10-15 16:26:23 -0400 (Sun, 15 Oct 2023) EllapsedTime: 11.6 seconds RetCode: 0 Status: OK PackageFile: CORREP_1.66.0.tar.gz PackageFileSize: 242.6 KiB