Package: CONFESS Version: 1.28.0 Command: F:\biocbuild\bbs-3.17-bioc\R\bin\R.exe CMD INSTALL CONFESS StartedAt: 2023-10-15 16:40:52 -0400 (Sun, 15 Oct 2023) EndedAt: 2023-10-15 16:41:50 -0400 (Sun, 15 Oct 2023) EllapsedTime: 58.1 seconds RetCode: 0 Status: OK