Package: CONFESS Version: 1.28.0 Command: chmod a+r CONFESS -R && F:\biocbuild\bbs-3.17-bioc\R\bin\R.exe CMD build --keep-empty-dirs --no-resave-data CONFESS StartedAt: 2023-10-15 18:20:43 -0400 (Sun, 15 Oct 2023) EndedAt: 2023-10-15 18:23:30 -0400 (Sun, 15 Oct 2023) EllapsedTime: 167.4 seconds RetCode: 0 Status: OK PackageFile: CONFESS_1.28.0.tar.gz PackageFileSize: 3.591 MiB