Package: CONFESS Version: 1.28.0 Command: /home/biocbuild/bbs-3.17-bioc/R/bin/R CMD check --install=check:CONFESS.install-out.txt --library=/home/biocbuild/bbs-3.17-bioc/R/site-library --timings CONFESS_1.28.0.tar.gz StartedAt: 2023-10-15 20:19:14 -0400 (Sun, 15 Oct 2023) EndedAt: 2023-10-15 20:26:42 -0400 (Sun, 15 Oct 2023) EllapsedTime: 447.6 seconds RetCode: 0 Status: WARNINGS CheckDir: CONFESS.Rcheck Warnings: 1