Package: CONFESS Version: 1.28.0 Command: /home/biocbuild/bbs-3.17-bioc/R/bin/R CMD build --keep-empty-dirs --no-resave-data CONFESS StartedAt: 2023-10-15 16:24:37 -0400 (Sun, 15 Oct 2023) EndedAt: 2023-10-15 16:27:08 -0400 (Sun, 15 Oct 2023) EllapsedTime: 150.2 seconds RetCode: 0 Status: OK PackageFile: CONFESS_1.28.0.tar.gz PackageFileSize: 3.588 MiB