Package: CONFESS Version: 1.28.0 Command: /Library/Frameworks/R.framework/Resources/bin/R CMD check --install=check:CONFESS.install-out.txt --library=/Library/Frameworks/R.framework/Resources/library --no-vignettes --timings CONFESS_1.28.0.tar.gz StartedAt: 2023-10-16 00:09:52 -0400 (Mon, 16 Oct 2023) EndedAt: 2023-10-16 00:25:53 -0400 (Mon, 16 Oct 2023) EllapsedTime: 960.7 seconds RetCode: 0 Status: WARNINGS CheckDir: CONFESS.Rcheck Warnings: 1