Package: COMPASS Version: 1.38.1 Command: chmod a+r COMPASS -R && F:\biocbuild\bbs-3.17-bioc\R\bin\R.exe CMD build --keep-empty-dirs --no-resave-data COMPASS StartedAt: 2023-10-15 18:19:08 -0400 (Sun, 15 Oct 2023) EndedAt: 2023-10-15 18:24:02 -0400 (Sun, 15 Oct 2023) EllapsedTime: 293.8 seconds RetCode: 0 Status: OK PackageFile: COMPASS_1.38.1.tar.gz PackageFileSize: 1.115 MiB