Package: COMPASS Version: 1.38.1 Command: /home/biocbuild/bbs-3.17-bioc/R/bin/R CMD check --install=check:COMPASS.install-out.txt --library=/home/biocbuild/bbs-3.17-bioc/R/site-library --timings COMPASS_1.38.1.tar.gz StartedAt: 2023-10-15 20:17:57 -0400 (Sun, 15 Oct 2023) EndedAt: 2023-10-15 20:21:56 -0400 (Sun, 15 Oct 2023) EllapsedTime: 239.8 seconds RetCode: 0 Status: OK CheckDir: COMPASS.Rcheck Warnings: 0