Package: COMPASS Version: 1.38.1 Command: /Library/Frameworks/R.framework/Resources/bin/R CMD check --install=check:COMPASS.install-out.txt --library=/Library/Frameworks/R.framework/Resources/library --no-vignettes --timings COMPASS_1.38.1.tar.gz StartedAt: 2023-10-16 00:05:47 -0400 (Mon, 16 Oct 2023) EndedAt: 2023-10-16 00:10:47 -0400 (Mon, 16 Oct 2023) EllapsedTime: 299.5 seconds RetCode: 0 Status: OK CheckDir: COMPASS.Rcheck Warnings: 0