Package: COMPASS Version: 1.38.1 Command: rm -rf COMPASS.buildbin-libdir && mkdir COMPASS.buildbin-libdir && /Users/biocbuild/BBS/utils/build-universal.sh COMPASS_1.38.1.tar.gz /Library/Frameworks/R.framework/Resources/bin/R COMPASS.buildbin-libdir StartedAt: 2023-10-16 09:11:23 -0400 (Mon, 16 Oct 2023) EndedAt: 2023-10-16 09:12:18 -0400 (Mon, 16 Oct 2023) EllapsedTime: 54.2 seconds RetCode: 0 Status: OK PackageFile: COMPASS_1.38.1.tgz PackageFileSize: 1.356 MiB