Package: COHCAP Version: 1.46.0 Command: rm -rf COHCAP.buildbin-libdir && mkdir COHCAP.buildbin-libdir && /Users/biocbuild/BBS/utils/build-universal.sh COHCAP_1.46.0.tar.gz /Library/Frameworks/R.framework/Resources/bin/R COHCAP.buildbin-libdir StartedAt: 2023-10-16 09:11:14 -0400 (Mon, 16 Oct 2023) EndedAt: 2023-10-16 09:12:51 -0400 (Mon, 16 Oct 2023) EllapsedTime: 96.5 seconds RetCode: 0 Status: OK PackageFile: COHCAP_1.46.0.tgz PackageFileSize: 436 KiB