Package: CODEX Version: 1.32.0 Command: rm -rf CODEX.buildbin-libdir && mkdir CODEX.buildbin-libdir && F:\biocbuild\bbs-3.17-bioc\R\bin\R.exe CMD INSTALL --build --library=CODEX.buildbin-libdir CODEX_1.32.0.tar.gz StartedAt: 2023-10-16 08:36:50 -0400 (Mon, 16 Oct 2023) EndedAt: 2023-10-16 08:37:26 -0400 (Mon, 16 Oct 2023) EllapsedTime: 35.9 seconds RetCode: 0 Status: OK PackageFile: CODEX_1.32.0.zip PackageFileSize: 1.297 MiB