Package: CODEX Version: 1.32.0 Command: /Library/Frameworks/R.framework/Resources/bin/R CMD INSTALL CODEX StartedAt: 2023-10-15 15:34:45 -0400 (Sun, 15 Oct 2023) EndedAt: 2023-10-15 15:36:17 -0400 (Sun, 15 Oct 2023) EllapsedTime: 92.3 seconds RetCode: 0 Status: OK