Package: CODEX Version: 1.32.0 Command: /Library/Frameworks/R.framework/Resources/bin/R CMD check --install=check:CODEX.install-out.txt --library=/Library/Frameworks/R.framework/Resources/library --no-vignettes --timings CODEX_1.32.0.tar.gz StartedAt: 2023-10-16 00:03:12 -0400 (Mon, 16 Oct 2023) EndedAt: 2023-10-16 00:14:03 -0400 (Mon, 16 Oct 2023) EllapsedTime: 650.8 seconds RetCode: 0 Status: OK CheckDir: CODEX.Rcheck Warnings: 0