Package: CODEX Version: 1.32.0 Command: /Library/Frameworks/R.framework/Resources/bin/R CMD build --keep-empty-dirs --no-resave-data CODEX StartedAt: 2023-10-15 17:32:37 -0400 (Sun, 15 Oct 2023) EndedAt: 2023-10-15 17:37:24 -0400 (Sun, 15 Oct 2023) EllapsedTime: 286.7 seconds RetCode: 0 Status: OK PackageFile: CODEX_1.32.0.tar.gz PackageFileSize: 913.9 KiB