Package: CNVrd2 Version: 1.38.0 Command: F:\biocbuild\bbs-3.17-bioc\R\bin\R.exe CMD check --no-multiarch --install=check:CNVrd2.install-out.txt --library=F:\biocbuild\bbs-3.17-bioc\R\library --no-vignettes --timings CNVrd2_1.38.0.tar.gz StartedAt: 2023-10-16 00:47:53 -0400 (Mon, 16 Oct 2023) EndedAt: 2023-10-16 00:50:51 -0400 (Mon, 16 Oct 2023) EllapsedTime: 178.6 seconds RetCode: 0 Status: OK CheckDir: CNVrd2.Rcheck Warnings: 0