Package: CNVrd2 Version: 1.38.0 Command: /Library/Frameworks/R.framework/Resources/bin/R CMD build --keep-empty-dirs --no-resave-data CNVrd2 StartedAt: 2023-10-15 17:32:20 -0400 (Sun, 15 Oct 2023) EndedAt: 2023-10-15 17:35:26 -0400 (Sun, 15 Oct 2023) EllapsedTime: 185.9 seconds RetCode: 0 Status: OK PackageFile: CNVrd2_1.38.0.tar.gz PackageFileSize: 2.825 MiB