Package: CNVrd2 Version: 1.38.0 Command: rm -rf CNVrd2.buildbin-libdir && mkdir CNVrd2.buildbin-libdir && /Users/biocbuild/BBS/utils/build-universal.sh CNVrd2_1.38.0.tar.gz /Library/Frameworks/R.framework/Resources/bin/R CNVrd2.buildbin-libdir StartedAt: 2023-10-16 09:10:51 -0400 (Mon, 16 Oct 2023) EndedAt: 2023-10-16 09:13:00 -0400 (Mon, 16 Oct 2023) EllapsedTime: 128.2 seconds RetCode: 0 Status: OK PackageFile: CNVrd2_1.38.0.tgz PackageFileSize: 2.92 MiB