Package: CNVgears Version: 1.8.0 Command: /home/biocbuild/bbs-3.17-bioc/R/bin/R CMD build --keep-empty-dirs --no-resave-data CNVgears StartedAt: 2023-10-15 16:22:17 -0400 (Sun, 15 Oct 2023) EndedAt: 2023-10-15 16:22:55 -0400 (Sun, 15 Oct 2023) EllapsedTime: 37.8 seconds RetCode: 0 Status: OK PackageFile: CNVgears_1.8.0.tar.gz PackageFileSize: 2.287 MiB