Package: CNVgears Version: 1.8.0 Command: /Library/Frameworks/R.framework/Resources/bin/R CMD check --install=check:CNVgears.install-out.txt --library=/Library/Frameworks/R.framework/Resources/library --no-vignettes --timings CNVgears_1.8.0.tar.gz StartedAt: 2023-10-16 00:00:29 -0400 (Mon, 16 Oct 2023) EndedAt: 2023-10-16 00:04:33 -0400 (Mon, 16 Oct 2023) EllapsedTime: 243.7 seconds RetCode: 0 Status: OK CheckDir: CNVgears.Rcheck Warnings: 0