Package: CNVgears Version: 1.8.0 Command: /Library/Frameworks/R.framework/Resources/bin/R CMD build --keep-empty-dirs --no-resave-data CNVgears StartedAt: 2023-10-15 17:31:31 -0400 (Sun, 15 Oct 2023) EndedAt: 2023-10-15 17:33:21 -0400 (Sun, 15 Oct 2023) EllapsedTime: 110.3 seconds RetCode: 0 Status: OK PackageFile: CNVgears_1.8.0.tar.gz PackageFileSize: 2.287 MiB