Package: CNVRanger Version: 1.16.5 Command: rm -rf CNVRanger.buildbin-libdir && mkdir CNVRanger.buildbin-libdir && F:\biocbuild\bbs-3.17-bioc\R\bin\R.exe CMD INSTALL --build --library=CNVRanger.buildbin-libdir CNVRanger_1.16.5.tar.gz StartedAt: 2023-10-16 08:36:40 -0400 (Mon, 16 Oct 2023) EndedAt: 2023-10-16 08:37:08 -0400 (Mon, 16 Oct 2023) EllapsedTime: 27.7 seconds RetCode: 0 Status: OK PackageFile: CNVRanger_1.16.5.zip PackageFileSize: 1.869 MiB