Package: CNVRanger Version: 1.16.5 Command: /home/biocbuild/bbs-3.17-bioc/R/bin/R CMD INSTALL CNVRanger StartedAt: 2023-10-15 15:17:19 -0400 (Sun, 15 Oct 2023) EndedAt: 2023-10-15 15:17:40 -0400 (Sun, 15 Oct 2023) EllapsedTime: 20.6 seconds RetCode: 0 Status: OK