Package: CNVRanger Version: 1.16.5 Command: /Library/Frameworks/R.framework/Resources/bin/R CMD check --install=check:CNVRanger.install-out.txt --library=/Library/Frameworks/R.framework/Resources/library --no-vignettes --timings CNVRanger_1.16.5.tar.gz StartedAt: 2023-10-16 00:01:54 -0400 (Mon, 16 Oct 2023) EndedAt: 2023-10-16 00:11:11 -0400 (Mon, 16 Oct 2023) EllapsedTime: 556.1 seconds RetCode: 0 Status: OK CheckDir: CNVRanger.Rcheck Warnings: 0