Package: CNVPanelizer Version: 1.32.0 Command: chmod a+r CNVPanelizer -R && F:\biocbuild\bbs-3.17-bioc\R\bin\R.exe CMD build --keep-empty-dirs --no-resave-data CNVPanelizer StartedAt: 2023-10-15 18:14:34 -0400 (Sun, 15 Oct 2023) EndedAt: 2023-10-15 18:16:03 -0400 (Sun, 15 Oct 2023) EllapsedTime: 89.7 seconds RetCode: 0 Status: OK PackageFile: CNVPanelizer_1.32.0.tar.gz PackageFileSize: 363.2 KiB