Package: CNTools Version: 1.56.0 Command: rm -rf CNTools.buildbin-libdir && mkdir CNTools.buildbin-libdir && F:\biocbuild\bbs-3.17-bioc\R\bin\R.exe CMD INSTALL --build --library=CNTools.buildbin-libdir CNTools_1.56.0.tar.gz StartedAt: 2023-10-16 08:36:26 -0400 (Mon, 16 Oct 2023) EndedAt: 2023-10-16 08:37:01 -0400 (Mon, 16 Oct 2023) EllapsedTime: 34.5 seconds RetCode: 0 Status: OK PackageFile: CNTools_1.56.0.zip PackageFileSize: 1.11 MiB