Package: CNTools Version: 1.56.0 Command: /Library/Frameworks/R.framework/Resources/bin/R CMD check --install=check:CNTools.install-out.txt --library=/Library/Frameworks/R.framework/Resources/library --no-vignettes --timings CNTools_1.56.0.tar.gz StartedAt: 2023-10-15 23:59:29 -0400 (Sun, 15 Oct 2023) EndedAt: 2023-10-16 00:05:26 -0400 (Mon, 16 Oct 2023) EllapsedTime: 356.8 seconds RetCode: 0 Status: OK CheckDir: CNTools.Rcheck Warnings: 0