Package: CNTools Version: 1.56.0 Command: rm -rf CNTools.buildbin-libdir && mkdir CNTools.buildbin-libdir && /Users/biocbuild/BBS/utils/build-universal.sh CNTools_1.56.0.tar.gz /Library/Frameworks/R.framework/Resources/bin/R CNTools.buildbin-libdir StartedAt: 2023-10-16 09:10:23 -0400 (Mon, 16 Oct 2023) EndedAt: 2023-10-16 09:11:35 -0400 (Mon, 16 Oct 2023) EllapsedTime: 71.5 seconds RetCode: 0 Status: OK PackageFile: CNTools_1.56.0.tgz PackageFileSize: 1.191 MiB