Package: CNORfuzzy Version: 1.42.0 Command: /home/biocbuild/bbs-3.17-bioc/R/bin/R CMD INSTALL CNORfuzzy StartedAt: 2023-10-15 15:32:36 -0400 (Sun, 15 Oct 2023) EndedAt: 2023-10-15 15:32:45 -0400 (Sun, 15 Oct 2023) EllapsedTime: 8.8 seconds RetCode: 0 Status: OK