Package: CNORfuzzy Version: 1.42.0 Command: /home/biocbuild/bbs-3.17-bioc/R/bin/R CMD build --keep-empty-dirs --no-resave-data CNORfuzzy StartedAt: 2023-10-15 16:22:02 -0400 (Sun, 15 Oct 2023) EndedAt: 2023-10-15 16:22:21 -0400 (Sun, 15 Oct 2023) EllapsedTime: 19.5 seconds RetCode: 0 Status: OK PackageFile: CNORfuzzy_1.42.0.tar.gz PackageFileSize: 917.5 KiB