Package: CNORfuzzy Version: 1.42.0 Command: /Library/Frameworks/R.framework/Resources/bin/R CMD INSTALL CNORfuzzy StartedAt: 2023-10-15 15:52:20 -0400 (Sun, 15 Oct 2023) EndedAt: 2023-10-15 15:52:50 -0400 (Sun, 15 Oct 2023) EllapsedTime: 30.4 seconds RetCode: 0 Status: OK