Package: CNORfuzzy Version: 1.42.0 Command: rm -rf CNORfuzzy.buildbin-libdir && mkdir CNORfuzzy.buildbin-libdir && /Users/biocbuild/BBS/utils/build-universal.sh CNORfuzzy_1.42.0.tar.gz /Library/Frameworks/R.framework/Resources/bin/R CNORfuzzy.buildbin-libdir StartedAt: 2023-10-16 09:10:17 -0400 (Mon, 16 Oct 2023) EndedAt: 2023-10-16 09:10:54 -0400 (Mon, 16 Oct 2023) EllapsedTime: 36.7 seconds RetCode: 0 Status: OK PackageFile: CNORfuzzy_1.42.0.tgz PackageFileSize: 692.2 KiB