Package: CNORfeeder Version: 1.40.0 Command: chmod a+r CNORfeeder -R && F:\biocbuild\bbs-3.17-bioc\R\bin\R.exe CMD build --keep-empty-dirs --no-resave-data CNORfeeder StartedAt: 2023-10-15 18:13:40 -0400 (Sun, 15 Oct 2023) EndedAt: 2023-10-15 18:13:59 -0400 (Sun, 15 Oct 2023) EllapsedTime: 19.2 seconds RetCode: 0 Status: OK PackageFile: CNORfeeder_1.40.0.tar.gz PackageFileSize: 3.297 MiB