Package: CNORfeeder Version: 1.40.0 Command: rm -rf CNORfeeder.buildbin-libdir && mkdir CNORfeeder.buildbin-libdir && F:\biocbuild\bbs-3.17-bioc\R\bin\R.exe CMD INSTALL --build --library=CNORfeeder.buildbin-libdir CNORfeeder_1.40.0.tar.gz StartedAt: 2023-10-16 08:36:21 -0400 (Mon, 16 Oct 2023) EndedAt: 2023-10-16 08:36:37 -0400 (Mon, 16 Oct 2023) EllapsedTime: 16.2 seconds RetCode: 0 Status: OK PackageFile: CNORfeeder_1.40.0.zip PackageFileSize: 1.966 MiB