Package: CNORfeeder Version: 1.40.0 Command: /home/biocbuild/bbs-3.17-bioc/R/bin/R CMD build --keep-empty-dirs --no-resave-data CNORfeeder StartedAt: 2023-10-15 16:22:00 -0400 (Sun, 15 Oct 2023) EndedAt: 2023-10-15 16:22:12 -0400 (Sun, 15 Oct 2023) EllapsedTime: 11.9 seconds RetCode: 0 Status: OK PackageFile: CNORfeeder_1.40.0.tar.gz PackageFileSize: 3.29 MiB