Package: CNEr Version: 1.36.0 Command: rm -rf CNEr.buildbin-libdir && mkdir CNEr.buildbin-libdir && F:\biocbuild\bbs-3.17-bioc\R\bin\R.exe CMD INSTALL --build --library=CNEr.buildbin-libdir CNEr_1.36.0.tar.gz StartedAt: 2023-10-16 08:36:18 -0400 (Mon, 16 Oct 2023) EndedAt: 2023-10-16 08:37:43 -0400 (Mon, 16 Oct 2023) EllapsedTime: 85.1 seconds RetCode: 0 Status: OK PackageFile: CNEr_1.36.0.zip PackageFileSize: 10.06 MiB