Package: CNEr Version: 1.36.0 Command: /home/biocbuild/bbs-3.17-bioc/R/bin/R CMD check --install=check:CNEr.install-out.txt --library=/home/biocbuild/bbs-3.17-bioc/R/site-library --timings CNEr_1.36.0.tar.gz StartedAt: 2023-10-15 20:12:32 -0400 (Sun, 15 Oct 2023) EndedAt: 2023-10-15 20:22:18 -0400 (Sun, 15 Oct 2023) EllapsedTime: 586.3 seconds RetCode: 0 Status: WARNINGS CheckDir: CNEr.Rcheck Warnings: 2