Package: CNEr Version: 1.36.0 Command: /home/biocbuild/bbs-3.17-bioc/R/bin/R CMD build --keep-empty-dirs --no-resave-data CNEr StartedAt: 2023-10-15 16:21:51 -0400 (Sun, 15 Oct 2023) EndedAt: 2023-10-15 16:23:31 -0400 (Sun, 15 Oct 2023) EllapsedTime: 100.3 seconds RetCode: 0 Status: OK PackageFile: CNEr_1.36.0.tar.gz PackageFileSize: 9.475 MiB