Package: CNEr Version: 1.36.0 Command: /Library/Frameworks/R.framework/Resources/bin/R CMD check --install=check:CNEr.install-out.txt --library=/Library/Frameworks/R.framework/Resources/library --no-vignettes --timings CNEr_1.36.0.tar.gz StartedAt: 2023-10-02 00:02:01 -0400 (Mon, 02 Oct 2023) EndedAt: 2023-10-02 00:26:38 -0400 (Mon, 02 Oct 2023) EllapsedTime: 1476.7 seconds RetCode: 0 Status: WARNINGS CheckDir: CNEr.Rcheck Warnings: 2