Package: CNAnorm Version: 1.46.1 Command: chmod a+r CNAnorm -R && F:\biocbuild\bbs-3.17-bioc\R\bin\R.exe CMD build --keep-empty-dirs --no-resave-data CNAnorm StartedAt: 2023-10-15 18:13:16 -0400 (Sun, 15 Oct 2023) EndedAt: 2023-10-15 18:13:44 -0400 (Sun, 15 Oct 2023) EllapsedTime: 27.4 seconds RetCode: 0 Status: OK PackageFile: CNAnorm_1.46.1.tar.gz PackageFileSize: 1.412 MiB