Package: CNAnorm Version: 1.46.1 Command: /home/biocbuild/bbs-3.17-bioc/R/bin/R CMD INSTALL CNAnorm StartedAt: 2023-10-15 15:12:18 -0400 (Sun, 15 Oct 2023) EndedAt: 2023-10-15 15:12:24 -0400 (Sun, 15 Oct 2023) EllapsedTime: 5.7 seconds RetCode: 0 Status: OK