Package: CNAnorm Version: 1.46.1 Command: /Library/Frameworks/R.framework/Resources/bin/R CMD INSTALL CNAnorm StartedAt: 2023-10-15 15:09:32 -0400 (Sun, 15 Oct 2023) EndedAt: 2023-10-15 15:10:15 -0400 (Sun, 15 Oct 2023) EllapsedTime: 42.5 seconds RetCode: 0 Status: OK