Package: CNAnorm Version: 1.46.1 Command: /Library/Frameworks/R.framework/Resources/bin/R CMD check --install=check:CNAnorm.install-out.txt --library=/Library/Frameworks/R.framework/Resources/library --no-vignettes --timings CNAnorm_1.46.1.tar.gz StartedAt: 2023-10-15 23:58:20 -0400 (Sun, 15 Oct 2023) EndedAt: 2023-10-16 00:00:29 -0400 (Mon, 16 Oct 2023) EllapsedTime: 129.3 seconds RetCode: 0 Status: OK CheckDir: CNAnorm.Rcheck Warnings: 0