Package: CNAnorm Version: 1.46.1 Command: /Library/Frameworks/R.framework/Resources/bin/R CMD build --keep-empty-dirs --no-resave-data CNAnorm StartedAt: 2023-10-15 17:30:18 -0400 (Sun, 15 Oct 2023) EndedAt: 2023-10-15 17:31:12 -0400 (Sun, 15 Oct 2023) EllapsedTime: 53.4 seconds RetCode: 0 Status: OK PackageFile: CNAnorm_1.46.1.tar.gz PackageFileSize: 1.521 MiB